BEGIN:VCALENDAR
VERSION:2.0
PRODID:-//The Gardens Of Hope - ECPv6.15.17.1//NONSGML v1.0//EN
CALSCALE:GREGORIAN
METHOD:PUBLISH
X-ORIGINAL-URL:https://thegardensofhope.org
X-WR-CALDESC:Events for The Gardens Of Hope
REFRESH-INTERVAL;VALUE=DURATION:PT1H
X-Robots-Tag:noindex
X-PUBLISHED-TTL:PT1H
BEGIN:VTIMEZONE
TZID:America/Los_Angeles
BEGIN:DAYLIGHT
TZOFFSETFROM:-0800
TZOFFSETTO:-0700
TZNAME:PDT
DTSTART:20240310T100000
END:DAYLIGHT
BEGIN:STANDARD
TZOFFSETFROM:-0700
TZOFFSETTO:-0800
TZNAME:PST
DTSTART:20241103T090000
END:STANDARD
BEGIN:DAYLIGHT
TZOFFSETFROM:-0800
TZOFFSETTO:-0700
TZNAME:PDT
DTSTART:20250309T100000
END:DAYLIGHT
BEGIN:STANDARD
TZOFFSETFROM:-0700
TZOFFSETTO:-0800
TZNAME:PST
DTSTART:20251102T090000
END:STANDARD
BEGIN:DAYLIGHT
TZOFFSETFROM:-0800
TZOFFSETTO:-0700
TZNAME:PDT
DTSTART:20260308T100000
END:DAYLIGHT
BEGIN:STANDARD
TZOFFSETFROM:-0700
TZOFFSETTO:-0800
TZNAME:PST
DTSTART:20261101T090000
END:STANDARD
END:VTIMEZONE
BEGIN:VEVENT
DTSTART;TZID=America/Los_Angeles:20250308T110000
DTEND;TZID=America/Los_Angeles:20250308T150000
DTSTAMP:20260420T020845
CREATED:20250225T074226Z
LAST-MODIFIED:20250225T090207Z
UID:12387-1741431600-1741446000@thegardensofhope.org
SUMMARY:Healing Through The Art Of Papermaking
DESCRIPTION:
URL:https://thegardensofhope.org/event/healing-through-the-art-of-papermaking/
LOCATION:The Gardens Of Hope Location\, 26570 Hammack Ave.\, Perris\, CA\, 92570\, United States
ATTACH;FMTTYPE=image/png:https://thegardensofhope.org/wp-content/uploads/2025/02/Screen-Shot-2025-02-24-at-11.38.42-PM.png
ORGANIZER;CN="Sprouting Freedom":MAILTO:programs@thegardensofhope.org
END:VEVENT
END:VCALENDAR